Workbook

Sheet 成绩公示
A1: 2026年招聘编外工作人员面试成绩、总成绩
A2: 序号 | B2: 报考岗位代码 | C2: 报考专业 | D2: 准考证号 | E2: 笔试成绩 | F2: 抽签号 | G2: 面试成绩 | H2: 总成绩
A3: 1 | B3: 20260202 | C3: 精神病与精神卫生学专业（限女性） | D3: 2026020103 | E3: 78 | F3: =VLOOKUP(D3,[1]八楼面试室!$K$3:$N$32,4,0) -> 1 | G3: 79.82 | H3: 78.91
A4: 2 | B4: 20260202 | C4: 精神病与精神卫生学专业（限女性） | D4: 2026020102 | E4: 71 | F4: =VLOOKUP(D4,[1]八楼面试室!$K$3:$N$32,4,0) -> 2 | G4: 83.16 | H4: 77.08
A5: 3 | B5: 20260202 | C5: 精神病与精神卫生学专业（限女性） | D5: 2026020104 | E5: 71 | F5: =VLOOKUP(D5,[1]八楼面试室!$K$3:$N$32,4,0) -> 19 | G5: 78.88 | H5: 74.94
A6: 4 | B6: 20260202 | C6: 精神病与精神卫生学专业（限女性） | D6: 2026020105 | E6: 73 | F6: =VLOOKUP(D6,[1]八楼面试室!$K$3:$N$32,4,0) -> 9 | G6: 75.92 | H6: 74.46
A7: 5 | B7: 20260202 | C7: 精神病与精神卫生学专业（限女性） | D7: 2026020101 | E7: 66 | F7: =VLOOKUP(D7,[1]八楼面试室!$K$3:$N$32,4,0) -> 12 | G7: 79.6 | H7: 72.8
A8: 6 | B8: 20260203 | C8: 中医内科学专业 | D8: 2026030111 | E8: 85 | F8: =VLOOKUP(D8,[1]八楼面试室!$K$3:$N$32,4,0) -> 13 | G8: 80.8 | H8: 82.9
A9: 7 | B9: 20260203 | C9: 中医内科学专业 | D9: 2026030115 | E9: 80 | F9: =VLOOKUP(D9,[1]八楼面试室!$K$3:$N$32,4,0) -> 26 | G9: 78.4 | H9: 79.2
A10: 8 | B10: 20260203 | C10: 中医内科学专业 | D10: 2026030109 | E10: 80 | F10: 缺考 | G10: 0 | H10: 40
A11: 9 | B11: 20260204 | C11: 康复治疗学专业 | D11: 2026040318 | E11: 79 | F11: =VLOOKUP(D11,[1]八楼面试室!$K$3:$N$32,4,0) -> 5 | G11: 80.64 | H11: 79.82
A12: 10 | B12: 20260204 | C12: 康复治疗学专业 | D12: 2026040214 | E12: 79 | F12: =VLOOKUP(D12,[1]八楼面试室!$K$3:$N$32,4,0) -> 22 | G12: 80.42 | H12: 79.71
A13: 11 | B13: 20260204 | C13: 康复治疗学专业 | D13: 2026040329 | E13: 78 | F13: =VLOOKUP(D13,[1]八楼面试室!$K$3:$N$32,4,0) -> 23 | G13: 79.8 | H13: 78.9
A14: 12 | B14: 20260204 | C14: 康复治疗学专业 | D14: 2026040202 | E14: 77 | F14: =VLOOKUP(D14,[1]八楼面试室!$K$3:$N$32,4,0) -> 16 | G14: 79.92 | H14: 78.46
A15: 13 | B15: 20260204 | C15: 康复治疗学专业 | D15: 2026040204 | E15: 76 | F15: =VLOOKUP(D15,[1]八楼面试室!$K$3:$N$32,4,0) -> 24 | G15: 76.52 | H15: 76.26
A16: 14 | B16: 20260204 | C16: 康复治疗学专业 | D16: 2026040319 | E16: 75 | F16: 缺考 | G16: 0 | H16: 37.5
A17: 15 | B17: 20260205 | C17: 应用心理学专业/应用心理专业 | D17: 2026053019 | E17: 71 | F17: =VLOOKUP(D17,'[1]四楼面试室 '!$K$3:$N$36,4,0) -> 15 | G17: 82.84 | H17: 76.92
A18: 16 | B18: 20260205 | C18: 应用心理学专业/应用心理专业 | D18: 2026053008 | E18: 68 | F18: =VLOOKUP(D18,'[1]四楼面试室 '!$K$3:$N$36,4,0) -> 28 | G18: 84.36 | H18: 76.18
A19: 17 | B19: 20260205 | C19: 应用心理学专业/应用心理专业 | D19: 2026053018 | E19: 74 | F19: =VLOOKUP(D19,'[1]四楼面试室 '!$K$3:$N$36,4,0) -> 26 | G19: 76.16 | H19: 75.08
A20: 18 | B20: 20260205 | C20: 应用心理学专业/应用心理专业 | D20: 2026053014 | E20: 67 | F20: =VLOOKUP(D20,'[1]四楼面试室 '!$K$3:$N$36,4,0) -> 4 | G20: 79.26 | H20: 73.13
A21: 19 | B21: 20260205 | C21: 应用心理学专业/应用心理专业 | D21: 2026053012 | E21: 69 | F21: =VLOOKUP(D21,'[1]四楼面试室 '!$K$3:$N$36,4,0) -> 31 | G21: 77.08 | H21: 73.04
A22: 20 | B22: 20260205 | C22: 应用心理学专业/应用心理专业 | D22: 2026053015 | E22: 67 | F22: =VLOOKUP(D22,'[1]四楼面试室 '!$K$3:$N$36,4,0) -> 33 | G22: 79.08 | H22: 73.04
A23: 21 | B23: 20260206 | C23: 药学专业 | D23: 2026060424 | E23: 97 | F23: =VLOOKUP(D23,'[1]九楼面试室 '!$K$3:$N$34,4,0) -> 24 | G23: 83.02 | H23: 90.01
A24: 22 | B24: 20260206 | C24: 药学专业 | D24: 2026060428 | E24: 97 | F24: =VLOOKUP(D24,'[1]九楼面试室 '!$K$3:$N$34,4,0) -> 18 | G24: 82.6 | H24: 89.8
A25: 23 | B25: 20260206 | C25: 药学专业 | D25: 2026060501 | E25: 98 | F25: =VLOOKUP(D25,'[1]九楼面试室 '!$K$3:$N$34,4,0) -> 2 | G25: 79.14 | H25: 88.57
A26: 24 | B26: 20260206 | C26: 药学专业 | D26: 2026060416 | E26: 99 | F26: =VLOOKUP(D26,'[1]九楼面试室 '!$K$3:$N$34,4,0) -> 30 | G26: 78 | H26: 88.5
A27: 25 | B27: 20260209 | C27: 医学影像学专业/临床医学专业 | D27: 2026090124 | E27: 59 | F27: =VLOOKUP(D27,[1]八楼面试室!$K$3:$N$32,4,0) -> 11 | G27: 75.26 | H27: 67.13
A28: 26 | B28: 20260209 | C28: 医学影像学专业/临床医学专业 | D28: 2026090121 | E28: 55 | F28: =VLOOKUP(D28,[1]八楼面试室!$K$3:$N$32,4,0) -> 18 | G28: 77.3 | H28: 66.15
A29: 27 | B29: 20260209 | C29: 医学影像学专业/临床医学专业 | D29: 2026090119 | E29: 50 | F29: =VLOOKUP(D29,[1]八楼面试室!$K$3:$N$32,4,0) -> 14 | G29: 81.22 | H29: 65.61
A30: 28 | B30: 20260209 | C30: 医学影像学专业/临床医学专业 | D30: 2026090126 | E30: 54 | F30: =VLOOKUP(D30,[1]八楼面试室!$K$3:$N$32,4,0) -> 15 | G30: 77.12 | H30: 65.56
A31: 29 | B31: 20260210 | C31: 医学检验技术专业 | D31: 2026100612 | E31: 93 | F31: =VLOOKUP(D31,[1]八楼面试室!$K$3:$N$32,4,0) -> 25 | G31: 82.68 | H31: 87.84
A32: 30 | B32: 20260210 | C32: 医学检验技术专业 | D32: 2026102902 | E32: 85 | F32: =VLOOKUP(D32,[1]八楼面试室!$K$3:$N$32,4,0) -> 4 | G32: 78.22 | H32: 81.61
A33: 31 | B33: 20260210 | C33: 医学检验技术专业 | D33: 2026100627 | E33: 76 | F33: =VLOOKUP(D33,[1]八楼面试室!$K$3:$N$32,4,0) -> 10 | G33: 80.42 | H33: 78.21
A34: 32 | B34: 20260210 | C34: 医学检验技术专业 | D34: 2026100630 | E34: 78 | F34: =VLOOKUP(D34,[1]八楼面试室!$K$3:$N$32,4,0) -> 17 | G34: 77.42 | H34: 77.71
A35: 33 | B35: 20260210 | C35: 医学检验技术专业 | D35: 2026100610 | E35: 77 | F35: =VLOOKUP(D35,[1]八楼面试室!$K$3:$N$32,4,0) -> 21 | G35: 77.8 | H35: 77.4
A36: 34 | B36: 20260210 | C36: 医学检验技术专业 | D36: 2026100628 | E36: 78 | F36: =VLOOKUP(D36,[1]八楼面试室!$K$3:$N$32,4,0) -> 8 | G36: 76.6 | H36: 77.3
A37: 35 | B37: 20260211 | C37: 医学影像学专业 （放射科） | D37: 2026112918 | E37: 91 | F37: =VLOOKUP(D37,[1]八楼面试室!$K$3:$N$32,4,0) -> 6 | G37: 77.52 | H37: 84.26
A38: 36 | B38: 20260211 | C38: 医学影像学专业 （放射科） | D38: 2026112913 | E38: 85 | F38: =VLOOKUP(D38,[1]八楼面试室!$K$3:$N$32,4,0) -> 20 | G38: 80.6 | H38: 82.8
... A40: 38 | B40: 20260211 | C40: 医学影像学专业 （放射科） | D40: 2026112911 | E40: 81 | F40: =VLOOKUP(D40,[1]八楼面试室!$K$3:$N$32,4,0) -> 3 | G40: 78.08 | H40: 79.54
A41: 39 | B41: 20260211 | C41: 医学影像学专业 （放射科） | D41: 2026112914 | E41: 88 | F41: 缺考 | G41: 0 | H41: 44
...
