Workbook

Sheet 成绩公示
A1: 2026年招聘编外工作人员面试成绩、总成绩
A2: 序号 | B2: 报考岗位代码 | C2: 报考专业 | D2: 准考证号 | E2: 笔试成绩 | F2: 抽签号 | G2: 面试成绩 | H2: 总成绩
A3: 1 | B3: 20260202 | C3: 精神病与精神卫生学专业（限女性） | D3: 2026020103 | E3: 78 | F3: =VLOOKUP(D3,[1]八楼面试室!$K$3:$N$32,4,0) -> 1 | G3: 79.82 | H3: 78.91
A4: 2 | B4: 20260202 | C4: 精神病与精神卫生学专业（限女性） | D4: 2026020102 | E4: 71 | F4: =VLOOKUP(D4,[1]八楼面试室!$K$3:$N$32,4,0) -> 2 | G4: 83.16 | H4: 77.08
A5: 3 | B5: 20260202 | C5: 精神病与精神卫生学专业（限女性） | D5: 2026020104 | E5: 71 | F5: =VLOOKUP(D5,[1]八楼面试室!$K$3:$N$32,4,0) -> 19 | G5: 78.88 | H5: 74.94
A6: 4 | B6: 20260202 | C6: 精神病与精神卫生学专业（限女性） | D6: 2026020105 | E6: 73 | F6: =VLOOKUP(D6,[1]八楼面试室!$K$3:$N$32,4,0) -> 9 | G6: 75.92 | H6: 74.46
A7: 5 | B7: 20260202 | C7: 精神病与精神卫生学专业（限女性） | D7: 2026020101 | E7: 66 | F7: =VLOOKUP(D7,[1]八楼面试室!$K$3:$N$32,4,0) -> 12 | G7: 79.6 | H7: 72.8
A8: 6 | B8: 20260203 | C8: 中医内科学专业 | D8: 2026030111 | E8: 85 | F8: =VLOOKUP(D8,[1]八楼面试室!$K$3:$N$32,4,0) -> 13 | G8: 80.8 | H8: 82.9
A9: 7 | B9: 20260203 | C9: 中医内科学专业 | D9: 2026030115 | E9: 80 | F9: =VLOOKUP(D9,[1]八楼面试室!$K$3:$N$32,4,0) -> 26 | G9: 78.4 | H9: 79.2
A10: 8 | B10: 20260203 | C10: 中医内科学专业 | D10: 2026030109 | E10: 80 | F10: 缺考 | G10: 0 | H10: 40
A11: 9 | B11: 20260204 | C11: 康复治疗学专业 | D11: 2026040318 | E11: 79 | F11: =VLOOKUP(D11,[1]八楼面试室!$K$3:$N$32,4,0) -> 5 | G11: 80.64 | H11: 79.82
A12: 10 | B12: 20260204 | C12: 康复治疗学专业 | D12: 2026040214 | E12: 79 | F12: =VLOOKUP(D12,[1]八楼面试室!$K$3:$N$32,4,0) -> 22 | G12: 80.42 | H12: 79.71
A13: 11 | B13: 20260204 | C13: 康复治疗学专业 | D13: 2026040329 | E13: 78 | F13: =VLOOKUP(D13,[1]八楼面试室!$K$3:$N$32,4,0) -> 23 | G13: 79.8 | H13: 78.9
A14: 12 | B14: 20260204 | C14: 康复治疗学专业 | D14: 2026040202 | E14: 77 | F14: =VLOOKUP(D14,[1]八楼面试室!$K$3:$N$32,4,0) -> 16 | G14: 79.92 | H14: 78.46
A15: 13 | B15: 20260204 | C15: 康复治疗学专业 | D15: 2026040204 | E15: 76 | F15: =VLOOKUP(D15,[1]八楼面试室!$K$3:$N$32,4,0) -> 24 | G15: 76.52 | H15: 76.26
A16: 14 | B16: 20260204 | C16: 康复治疗学专业 | D16: 2026040319 | E16: 75 | F16: 缺考 | G16: 0 | H16: 37.5
A17: 15 | B17: 20260205 | C17: 应用心理学专业/应用心理专业 | D17: 2026053019 | E17: 71 | F17: =VLOOKUP(D17,'[1]四楼面试室 '!$K$3:$N$36,4,0) -> 15 | G17: 82.84 | H17: 76.92
A18: 16 | B18: 20260205 | C18: 应用心理学专业/应用心理专业 | D18: 2026053008 | E18: 68 | F18: =VLOOKUP(D18,'[1]四楼面试室 '!$K$3:$N$36,4,0) -> 28 | G18: 84.36 | H18: 76.18
A19: 17 | B19: 20260205 | C19: 应用心理学专业/应用心理专业 | D19: 2026053018 | E19: 74 | F19: =VLOOKUP(D19,'[1]四楼面试室 '!$K$3:$N$36,4,0) -> 26 | G19: 76.16 | H19: 75.08
A20: 18 | B20: 20260205 | C20: 应用心理学专业/应用心理专业 | D20: 2026053014 | E20: 67 | F20: =VLOOKUP(D20,'[1]四楼面试室 '!$K$3:$N$36,4,0) -> 4 | G20: 79.26 | H20: 73.13
A21: 19 | B21: 20260205 | C21: 应用心理学专业/应用心理专业 | D21: 2026053012 | E21: 69 | F21: =VLOOKUP(D21,'[1]四楼面试室 '!$K$3:$N$36,4,0) -> 31 | G21: 77.08 | H21: 73.04
A22: 20 | B22: 20260205 | C22: 应用心理学专业/应用心理专业 | D22: 2026053015 | E22: 67 | F22: =VLOOKUP(D22,'[1]四楼面试室 '!$K$3:$N$36,4,0) -> 33 | G22: 79.08 | H22: 73.04
A23: 21 | B23: 20260206 | C23: 药学专业 | D23: 2026060424 | E23: 97 | F23: =VLOOKUP(D23,'[1]九楼面试室 '!$K$3:$N$34,4,0) -> 24 | G23: 83.02 | H23: 90.01
A24: 22 | B24: 20260206 | C24: 药学专业 | D24: 2026060428 | E24: 97 | F24: =VLOOKUP(D24,'[1]九楼面试室 '!$K$3:$N$34,4,0) -> 18 | G24: 82.6 | H24: 89.8
A25: 23 | B25: 20260206 | C25: 药学专业 | D25: 2026060501 | E25: 98 | F25: =VLOOKUP(D25,'[1]九楼面试室 '!$K$3:$N$34,4,0) -> 2 | G25: 79.14 | H25: 88.57
A26: 24 | B26: 20260206 | C26: 药学专业 | D26: 2026060416 | E26: 99 | F26: =VLOOKUP(D26,'[1]九楼面试室 '!$K$3:$N$34,4,0) -> 30 | G26: 78 | H26: 88.5
A27: 25 | B27: 20260209 | C27: 医学影像学专业/临床医学专业 | D27: 2026090124 | E27: 59 | F27: =VLOOKUP(D27,[1]八楼面试室!$K$3:$N$32,4,0) -> 11 | G27: 75.26 | H27: 67.13
A28: 26 | B28: 20260209 | C28: 医学影像学专业/临床医学专业 | D28: 2026090121 | E28: 55 | F28: =VLOOKUP(D28,[1]八楼面试室!$K$3:$N$32,4,0) -> 18 | G28: 77.3 | H28: 66.15
A29: 27 | B29: 20260209 | C29: 医学影像学专业/临床医学专业 | D29: 2026090119 | E29: 50 | F29: =VLOOKUP(D29,[1]八楼面试室!$K$3:$N$32,4,0) -> 14 | G29: 81.22 | H29: 65.61
A30: 28 | B30: 20260209 | C30: 医学影像学专业/临床医学专业 | D30: 2026090126 | E30: 54 | F30: =VLOOKUP(D30,[1]八楼面试室!$K$3:$N$32,4,0) -> 15 | G30: 77.12 | H30: 65.56
A31: 29 | B31: 20260210 | C31: 医学检验技术专业 | D31: 2026100612 | E31: 93 | F31: =VLOOKUP(D31,[1]八楼面试室!$K$3:$N$32,4,0) -> 25 | G31: 82.68 | H31: 87.84
A32: 30 | B32: 20260210 | C32: 医学检验技术专业 | D32: 2026102902 | E32: 85 | F32: =VLOOKUP(D32,[1]八楼面试室!$K$3:$N$32,4,0) -> 4 | G32: 78.22 | H32: 81.61
A33: 31 | B33: 20260210 | C33: 医学检验技术专业 | D33: 2026100627 | E33: 76 | F33: =VLOOKUP(D33,[1]八楼面试室!$K$3:$N$32,4,0) -> 10 | G33: 80.42 | H33: 78.21
A34: 32 | B34: 20260210 | C34: 医学检验技术专业 | D34: 2026100630 | E34: 78 | F34: =VLOOKUP(D34,[1]八楼面试室!$K$3:$N$32,4,0) -> 17 | G34: 77.42 | H34: 77.71
A35: 33 | B35: 20260210 | C35: 医学检验技术专业 | D35: 2026100610 | E35: 77 | F35: =VLOOKUP(D35,[1]八楼面试室!$K$3:$N$32,4,0) -> 21 | G35: 77.8 | H35: 77.4
A36: 34 | B36: 20260210 | C36: 医学检验技术专业 | D36: 2026100628 | E36: 78 | F36: =VLOOKUP(D36,[1]八楼面试室!$K$3:$N$32,4,0) -> 8 | G36: 76.6 | H36: 77.3
A37: 35 | B37: 20260211 | C37: 医学影像学专业 （放射科） | D37: 2026112918 | E37: 91 | F37: =VLOOKUP(D37,[1]八楼面试室!$K$3:$N$32,4,0) -> 6 | G37: 77.52 | H37: 84.26
A38: 36 | B38: 20260211 | C38: 医学影像学专业 （放射科） | D38: 2026112913 | E38: 85 | F38: =VLOOKUP(D38,[1]八楼面试室!$K$3:$N$32,4,0) -> 20 | G38: 80.6 | H38: 82.8
... A40: 38 | B40: 20260211 | C40: 医学影像学专业 （放射科） | D40: 2026112911 | E40: 81 | F40: =VLOOKUP(D40,[1]八楼面试室!$K$3:$N$32,4,0) -> 3 | G40: 78.08 | H40: 79.54
A41: 39 | B41: 20260211 | C41: 医学影像学专业 （放射科） | D41: 2026112914 | E41: 88 | F41: 缺考 | G41: 0 | H41: 44
A42: 40 | B42: 20260211 | C42: 医学影像学专业 （放射科） | D42: 2026112912 | E42: 81 | F42: 缺考 | G42: 0 | H42: 40.5
A43: 41 | B43: 20260212 | C43: 信息管理与信息系统专业 | D43: 2026122829 | E43: 73 | F43: =VLOOKUP(D43,'[1]九楼面试室 '!$K$3:$N$34,4,0) -> 22 | G43: 83.5 | H43: 78.25
A44: 42 | B44: 20260212 | C44: 信息管理与信息系统专业 | D44: 2026122830 | E44: 72 | F44: =VLOOKUP(D44,'[1]九楼面试室 '!$K$3:$N$34,4,0) -> 26 | G44: 81.5 | H44: 76.75
A45: 43 | B45: 20260213 | C45: 护理专业 （限女性） | D45: 2026131309 | E45: 78 | F45: =VLOOKUP(D45,'[1]四楼面试室 '!$K$3:$N$36,4,0) -> 1 | G45: 79.28 | H45: 78.64
A46: 44 | B46: 20260213 | C46: 护理专业 （限女性） | D46: 2026131320 | E46: 80 | F46: =VLOOKUP(D46,'[1]四楼面试室 '!$K$3:$N$36,4,0) -> 24 | G46: 76.94 | H46: 78.47
A47: 45 | B47: 20260213 | C47: 护理专业 （限女性） | D47: 2026131310 | E47: 78 | F47: =VLOOKUP(D47,'[1]四楼面试室 '!$K$3:$N$36,4,0) -> 6 | G47: 76.4 | H47: 77.2
A48: 46 | B48: 20260213 | C48: 护理专业 （限女性） | D48: 2026131022 | E48: 76 | F48: =VLOOKUP(D48,'[1]四楼面试室 '!$K$3:$N$36,4,0) -> 19 | G48: 77.02 | H48: 76.51
A49: 47 | B49: 20260213 | C49: 护理专业 （限女性） | D49: 2026132030 | E49: 76 | F49: =VLOOKUP(D49,'[1]四楼面试室 '!$K$3:$N$36,4,0) -> 23 | G49: 76.08 | H49: 76.04
A50: 48 | B50: 20260213 | C50: 护理专业 （限女性） | D50: 2026131704 | E50: 71 | F50: =VLOOKUP(D50,'[1]四楼面试室 '!$K$3:$N$36,4,0) -> 27 | G50: 80.68 | H50: 75.84
A51: 49 | B51: 20260213 | C51: 护理专业 （限女性） | D51: 2026130816 | E51: 73 | F51: =VLOOKUP(D51,'[1]四楼面试室 '!$K$3:$N$36,4,0) -> 32 | G51: 77.78 | H51: 75.39
A52: 50 | B52: 20260213 | C52: 护理专业 （限女性） | D52: 2026130923 | E52: 73 | F52: =VLOOKUP(D52,'[1]四楼面试室 '!$K$3:$N$36,4,0) -> 14 | G52: 77.16 | H52: 75.08
A53: 51 | B53: 20260213 | C53: 护理专业 （限女性） | D53: 2026130814 | E53: 71 | F53: =VLOOKUP(D53,'[1]四楼面试室 '!$K$3:$N$36,4,0) -> 3 | G53: 79.1 | H53: 75.05
A54: 52 | B54: 20260213 | C54: 护理专业 （限女性） | D54: 2026131223 | E54: 74 | F54: =VLOOKUP(D54,'[1]四楼面试室 '!$K$3:$N$36,4,0) -> 20 | G54: 75.96 | H54: 74.98
A55: 53 | B55: 20260213 | C55: 护理专业 （限女性） | D55: 2026131713 | E55: 70 | F55: =VLOOKUP(D55,'[1]四楼面试室 '!$K$3:$N$36,4,0) -> 12 | G55: 79.92 | H55: 74.96
A56: 54 | B56: 20260213 | C56: 护理专业 （限女性） | D56: 2026131303 | E56: 73 | F56: =VLOOKUP(D56,'[1]四楼面试室 '!$K$3:$N$36,4,0) -> 5 | G56: 76.74 | H56: 74.87
... A71: 69 | B71: 20260213 | C71: 护理专业 （限女性） | D71: 2026130928 | E71: 70 | F71: =VLOOKUP(D71,'[1]四楼面试室 '!$K$3:$N$36,4,0) -> 7 | G71: 73.68 | H71: 71.84
A72: 70 | B72: 20260213 | C72: 护理专业 （限女性） | D72: 2026131529 | E72: 70 | F72: 缺考 | G72: 0 | H72: 35
A73: 71 | B73: 20260214 | C73: 护理专业 （限男性） | D73: 2026142306 | E73: 80 | F73: =VLOOKUP(D73,'[1]九楼面试室 '!$K$3:$N$34,4,0) -> 14 | G73: 82.4 | H73: 81.2
A74: 72 | B74: 20260214 | C74: 护理专业 （限男性） | D74: 2026142219 | E74: 82 | F74: =VLOOKUP(D74,'[1]九楼面试室 '!$K$3:$N$34,4,0) -> 8 | G74: 76.18 | H74: 79.09
A75: 73 | B75: 20260214 | C75: 护理专业 （限男性） | D75: 2026142224 | E75: 73 | F75: =VLOOKUP(D75,'[1]九楼面试室 '!$K$3:$N$34,4,0) -> 12 | G75: 81 | H75: 77
A76: 74 | B76: 20260214 | C76: 护理专业 （限男性） | D76: 2026142602 | E76: 76 | F76: =VLOOKUP(D76,'[1]九楼面试室 '!$K$3:$N$34,4,0) -> 15 | G76: 77.74 | H76: 76.87
A77: 75 | B77: 20260214 | C77: 护理专业 （限男性） | D77: 2026142209 | E77: 70 | F77: =VLOOKUP(D77,'[1]九楼面试室 '!$K$3:$N$34,4,0) -> 4 | G77: 82.64 | H77: 76.32
A78: 76 | B78: 20260214 | C78: 护理专业 （限男性） | D78: 2026142313 | E78: 73 | F78: =VLOOKUP(D78,'[1]九楼面试室 '!$K$3:$N$34,4,0) -> 19 | G78: 79.5 | H78: 76.25
A79: 77 | B79: 20260214 | C79: 护理专业 （限男性） | D79: 2026142412 | E79: 70 | F79: =VLOOKUP(D79,'[1]九楼面试室 '!$K$3:$N$34,4,0) -> 31 | G79: 82.48 | H79: 76.24
A80: 78 | B80: 20260214 | C80: 护理专业 （限男性） | D80: 2026142312 | E80: 69 | F80: =VLOOKUP(D80,'[1]九楼面试室 '!$K$3:$N$34,4,0) -> 5 | G80: 83.04 | H80: 76.02
A81: 79 | B81: 20260214 | C81: 护理专业 （限男性） | D81: 2026142414 | E81: 70 | F81: =VLOOKUP(D81,'[1]九楼面试室 '!$K$3:$N$34,4,0) -> 28 | G81: 81.28 | H81: 75.64
A82: 80 | B82: 20260214 | C82: 护理专业 （限男性） | D82: 2026142804 | E82: 70 | F82: =VLOOKUP(D82,'[1]九楼面试室 '!$K$3:$N$34,4,0) -> 13 | G82: 80.76 | H82: 75.38
A83: 81 | B83: 20260214 | C83: 护理专业 （限男性） | D83: 2026142408 | E83: 73 | F83: =VLOOKUP(D83,'[1]九楼面试室 '!$K$3:$N$34,4,0) -> 23 | G83: 76.84 | H83: 74.92
A84: 82 | B84: 20260214 | C84: 护理专业 （限男性） | D84: 2026142512 | E84: 65 | F84: =VLOOKUP(D84,'[1]九楼面试室 '!$K$3:$N$34,4,0) -> 10 | G84: 84.62 | H84: 74.81
... A97: 95 | B97: 20260214 | C97: 护理专业 （限男性） | D97: 2026142507 | E97: 65 | F97: =VLOOKUP(D97,'[1]九楼面试室 '!$K$3:$N$34,4,0) -> 6 | G97: 74.34 | H97: 69.67
A98: 96 | B98: 20260214 | C98: 护理专业 （限男性） | D98: 2026142705 | E98: 72 | F98: 缺考 | G98: 0 | H98: 36
