Workbook

Sheet Sheet1
A1: 芜湖市第四人民医院编外招聘体检考生信息
A2: 序号 | B2: 报考岗位代码 | C2: 报考专业 | D2: 准考证号 | E2: 笔试成绩 | F2: 抽签号 | G2: 面试成绩 | H2: 总成绩
A3: 1 | B3: 20260202 | C3: 精神病与精神卫生学专业（限女性） | D3: 2026020103 | E3: 78 | F3: =VLOOKUP(D3,[1]八楼面试室!$K$3:$N$32,4,0) -> 1 | G3: 79.82 | H3: 78.91
A4: 2 | B4: 20260202 | C4: 精神病与精神卫生学专业（限女性） | D4: 2026020102 | E4: 71 | F4: =VLOOKUP(D4,[1]八楼面试室!$K$3:$N$32,4,0) -> 2 | G4: 83.16 | H4: 77.08
A5: 3 | B5: 20260203 | C5: 中医内科学专业 | D5: 2026030111 | E5: 85 | F5: =VLOOKUP(D5,[1]八楼面试室!$K$3:$N$32,4,0) -> 13 | G5: 80.8 | H5: 82.9
A6: 4 | B6: 20260204 | C6: 康复治疗学专业 | D6: 2026040318 | E6: 79 | F6: =VLOOKUP(D6,[1]八楼面试室!$K$3:$N$32,4,0) -> 5 | G6: 80.64 | H6: 79.82
A7: 5 | B7: 20260204 | C7: 康复治疗学专业 | D7: 2026040214 | E7: 79 | F7: =VLOOKUP(D7,[1]八楼面试室!$K$3:$N$32,4,0) -> 22 | G7: 80.42 | H7: 79.71
A8: 6 | B8: 20260205 | C8: 应用心理学专业/应用心理专业 | D8: 2026053019 | E8: 71 | F8: =VLOOKUP(D8,'[1]四楼面试室 '!$K$3:$N$36,4,0) -> 15 | G8: 82.84 | H8: 76.92
A9: 7 | B9: 20260205 | C9: 应用心理学专业/应用心理专业 | D9: 2026053008 | E9: 68 | F9: =VLOOKUP(D9,'[1]四楼面试室 '!$K$3:$N$36,4,0) -> 28 | G9: 84.36 | H9: 76.18
A10: 8 | B10: 20260206 | C10: 药学专业 | D10: 2026060424 | E10: 97 | F10: =VLOOKUP(D10,'[1]九楼面试室 '!$K$3:$N$34,4,0) -> 24 | G10: 83.02 | H10: 90.01
A11: 9 | B11: 20260209 | C11: 医学影像学专业/临床医学专业 | D11: 2026090124 | E11: 59 | F11: =VLOOKUP(D11,[1]八楼面试室!$K$3:$N$32,4,0) -> 11 | G11: 75.26 | H11: 67.13
A12: 10 | B12: 20260209 | C12: 医学影像学专业/临床医学专业 | D12: 2026090121 | E12: 55 | F12: =VLOOKUP(D12,[1]八楼面试室!$K$3:$N$32,4,0) -> 18 | G12: 77.3 | H12: 66.15
A13: 11 | B13: 20260209 | C13: 医学影像学专业/临床医学专业 | D13: 2026090119 | E13: 50 | F13: =VLOOKUP(D13,[1]八楼面试室!$K$3:$N$32,4,0) -> 14 | G13: 81.22 | H13: 65.61
A14: 12 | B14: 20260210 | C14: 医学检验技术专业 | D14: 2026100612 | E14: 93 | F14: =VLOOKUP(D14,[1]八楼面试室!$K$3:$N$32,4,0) -> 25 | G14: 82.68 | H14: 87.84
A15: 13 | B15: 20260210 | C15: 医学检验技术专业 | D15: 2026102902 | E15: 85 | F15: =VLOOKUP(D15,[1]八楼面试室!$K$3:$N$32,4,0) -> 4 | G15: 78.22 | H15: 81.61
A16: 14 | B16: 20260211 | C16: 医学影像学专业 （放射科） | D16: 2026112918 | E16: 91 | F16: =VLOOKUP(D16,[1]八楼面试室!$K$3:$N$32,4,0) -> 6 | G16: 77.52 | H16: 84.26
A17: 15 | B17: 20260211 | C17: 医学影像学专业 （放射科） | D17: 2026112913 | E17: 85 | F17: =VLOOKUP(D17,[1]八楼面试室!$K$3:$N$32,4,0) -> 20 | G17: 80.6 | H17: 82.8
A18: 16 | B18: 20260212 | C18: 信息管理与信息系统专业 | D18: 2026122829 | E18: 73 | F18: =VLOOKUP(D18,'[1]九楼面试室 '!$K$3:$N$34,4,0) -> 22 | G18: 83.5 | H18: 78.25
A19: 17 | B19: 20260213 | C19: 护理专业 （限女性） | D19: 2026131309 | E19: 78 | F19: =VLOOKUP(D19,'[1]四楼面试室 '!$K$3:$N$36,4,0) -> 1 | G19: 79.28 | H19: 78.64
A20: 18 | B20: 20260213 | C20: 护理专业 （限女性） | D20: 2026131320 | E20: 80 | F20: =VLOOKUP(D20,'[1]四楼面试室 '!$K$3:$N$36,4,0) -> 24 | G20: 76.94 | H20: 78.47
A21: 19 | B21: 20260213 | C21: 护理专业 （限女性） | D21: 2026131310 | E21: 78 | F21: =VLOOKUP(D21,'[1]四楼面试室 '!$K$3:$N$36,4,0) -> 6 | G21: 76.4 | H21: 77.2
A22: 20 | B22: 20260213 | C22: 护理专业 （限女性） | D22: 2026131022 | E22: 76 | F22: =VLOOKUP(D22,'[1]四楼面试室 '!$K$3:$N$36,4,0) -> 19 | G22: 77.02 | H22: 76.51
A23: 21 | B23: 20260213 | C23: 护理专业 （限女性） | D23: 2026132030 | E23: 76 | F23: =VLOOKUP(D23,'[1]四楼面试室 '!$K$3:$N$36,4,0) -> 23 | G23: 76.08 | H23: 76.04
A24: 22 | B24: 20260213 | C24: 护理专业 （限女性） | D24: 2026131704 | E24: 71 | F24: =VLOOKUP(D24,'[1]四楼面试室 '!$K$3:$N$36,4,0) -> 27 | G24: 80.68 | H24: 75.84
A25: 23 | B25: 20260213 | C25: 护理专业 （限女性） | D25: 2026130816 | E25: 73 | F25: =VLOOKUP(D25,'[1]四楼面试室 '!$K$3:$N$36,4,0) -> 32 | G25: 77.78 | H25: 75.39
A26: 24 | B26: 20260213 | C26: 护理专业 （限女性） | D26: 2026130923 | E26: 73 | F26: =VLOOKUP(D26,'[1]四楼面试室 '!$K$3:$N$36,4,0) -> 14 | G26: 77.16 | H26: 75.08
A27: 25 | B27: 20260213 | C27: 护理专业 （限女性） | D27: 2026130814 | E27: 71 | F27: =VLOOKUP(D27,'[1]四楼面试室 '!$K$3:$N$36,4,0) -> 3 | G27: 79.1 | H27: 75.05
A28: 26 | B28: 20260213 | C28: 护理专业 （限女性） | D28: 2026131223 | E28: 74 | F28: =VLOOKUP(D28,'[1]四楼面试室 '!$K$3:$N$36,4,0) -> 20 | G28: 75.96 | H28: 74.98
A29: 27 | B29: 20260213 | C29: 护理专业 （限女性） | D29: 2026131713 | E29: 70 | F29: =VLOOKUP(D29,'[1]四楼面试室 '!$K$3:$N$36,4,0) -> 12 | G29: 79.92 | H29: 74.96
A30: 28 | B30: 20260213 | C30: 护理专业 （限女性） | D30: 2026131303 | E30: 73 | F30: =VLOOKUP(D30,'[1]四楼面试室 '!$K$3:$N$36,4,0) -> 5 | G30: 76.74 | H30: 74.87
A31: 29 | B31: 20260213 | C31: 护理专业 （限女性） | D31: 2026131516 | E31: 71 | F31: =VLOOKUP(D31,'[1]四楼面试室 '!$K$3:$N$36,4,0) -> 9 | G31: 78.32 | H31: 74.66
A32: 30 | B32: 20260214 | C32: 护理专业 （限男性） | D32: 2026142306 | E32: 80 | F32: =VLOOKUP(D32,'[1]九楼面试室 '!$K$3:$N$34,4,0) -> 14 | G32: 82.4 | H32: 81.2
A33: 31 | B33: 20260214 | C33: 护理专业 （限男性） | D33: 2026142219 | E33: 82 | F33: =VLOOKUP(D33,'[1]九楼面试室 '!$K$3:$N$34,4,0) -> 8 | G33: 76.18 | H33: 79.09
A34: 32 | B34: 20260214 | C34: 护理专业 （限男性） | D34: 2026142224 | E34: 73 | F34: =VLOOKUP(D34,'[1]九楼面试室 '!$K$3:$N$34,4,0) -> 12 | G34: 81 | H34: 77
A35: 33 | B35: 20260214 | C35: 护理专业 （限男性） | D35: 2026142602 | E35: 76 | F35: =VLOOKUP(D35,'[1]九楼面试室 '!$K$3:$N$34,4,0) -> 15 | G35: 77.74 | H35: 76.87
A36: 34 | B36: 20260214 | C36: 护理专业 （限男性） | D36: 2026142209 | E36: 70 | F36: =VLOOKUP(D36,'[1]九楼面试室 '!$K$3:$N$34,4,0) -> 4 | G36: 82.64 | H36: 76.32
A37: 35 | B37: 20260214 | C37: 护理专业 （限男性） | D37: 2026142313 | E37: 73 | F37: =VLOOKUP(D37,'[1]九楼面试室 '!$K$3:$N$34,4,0) -> 19 | G37: 79.5 | H37: 76.25
A38: 36 | B38: 20260214 | C38: 护理专业 （限男性） | D38: 2026142412 | E38: 70 | F38: =VLOOKUP(D38,'[1]九楼面试室 '!$K$3:$N$34,4,0) -> 31 | G38: 82.48 | H38: 76.24
A39: 37 | B39: 20260214 | C39: 护理专业 （限男性） | D39: 2026142312 | E39: 69 | F39: =VLOOKUP(D39,'[1]九楼面试室 '!$K$3:$N$34,4,0) -> 5 | G39: 83.04 | H39: 76.02
A40: 38 | B40: 20260214 | C40: 护理专业 （限男性） | D40: 2026142414 | E40: 70 | F40: =VLOOKUP(D40,'[1]九楼面试室 '!$K$3:$N$34,4,0) -> 28 | G40: 81.28 | H40: 75.64
...
